BEGIN:VCALENDAR
VERSION:2.0
PRODID:-//States for the future: a data driven policy network - ECPv6.15.20//NONSGML v1.0//EN
CALSCALE:GREGORIAN
METHOD:PUBLISH
X-ORIGINAL-URL:https://statesforthefuture.org
X-WR-CALDESC:Events for States for the future: a data driven policy network
REFRESH-INTERVAL;VALUE=DURATION:PT1H
X-Robots-Tag:noindex
X-PUBLISHED-TTL:PT1H
BEGIN:VTIMEZONE
TZID:America/Los_Angeles
BEGIN:DAYLIGHT
TZOFFSETFROM:-0800
TZOFFSETTO:-0700
TZNAME:PDT
DTSTART:20230312T100000
END:DAYLIGHT
BEGIN:STANDARD
TZOFFSETFROM:-0700
TZOFFSETTO:-0800
TZNAME:PST
DTSTART:20231105T090000
END:STANDARD
BEGIN:DAYLIGHT
TZOFFSETFROM:-0800
TZOFFSETTO:-0700
TZNAME:PDT
DTSTART:20240310T100000
END:DAYLIGHT
BEGIN:STANDARD
TZOFFSETFROM:-0700
TZOFFSETTO:-0800
TZNAME:PST
DTSTART:20241103T090000
END:STANDARD
BEGIN:DAYLIGHT
TZOFFSETFROM:-0800
TZOFFSETTO:-0700
TZNAME:PDT
DTSTART:20250309T100000
END:DAYLIGHT
BEGIN:STANDARD
TZOFFSETFROM:-0700
TZOFFSETTO:-0800
TZNAME:PST
DTSTART:20251102T090000
END:STANDARD
END:VTIMEZONE
BEGIN:VEVENT
DTSTART;TZID=America/Los_Angeles:20241115T110000
DTEND;TZID=America/Los_Angeles:20241115T120000
DTSTAMP:20260423T165835
CREATED:20240913T223453Z
LAST-MODIFIED:20241031T195114Z
UID:303-1731668400-1731672000@statesforthefuture.org
SUMMARY:All Network Meeting
DESCRIPTION:Join us for our annual All Network Meeting\, States for the Future’s virtual state of the union address on November 15th at 11 AM PT / 2 PM ET. Attendees will learn more about the future of the network and how participants can stay engaged. This meeting is open to anyone who is interested in States for the Future\, regardless of your participation in our prior events. If you’d like to learn the latest about States for the Future\, you are welcome to attend.
URL:https://statesforthefuture.org/event/all-network-meeting/
ATTACH;FMTTYPE=image/jpeg:https://statesforthefuture.org/wp-content/uploads/2024/09/JPG_Full_LogoOriginal-scaled.jpg
END:VEVENT
END:VCALENDAR