BEGIN:VCALENDAR
VERSION:2.0
PRODID:-//States for the future: a data driven policy network - ECPv6.15.20//NONSGML v1.0//EN
CALSCALE:GREGORIAN
METHOD:PUBLISH
X-WR-CALNAME:States for the future: a data driven policy network
X-ORIGINAL-URL:https://statesforthefuture.org
X-WR-CALDESC:Events for States for the future: a data driven policy network
REFRESH-INTERVAL;VALUE=DURATION:PT1H
X-Robots-Tag:noindex
X-PUBLISHED-TTL:PT1H
BEGIN:VTIMEZONE
TZID:America/Los_Angeles
BEGIN:DAYLIGHT
TZOFFSETFROM:-0800
TZOFFSETTO:-0700
TZNAME:PDT
DTSTART:20230312T100000
END:DAYLIGHT
BEGIN:STANDARD
TZOFFSETFROM:-0700
TZOFFSETTO:-0800
TZNAME:PST
DTSTART:20231105T090000
END:STANDARD
BEGIN:DAYLIGHT
TZOFFSETFROM:-0800
TZOFFSETTO:-0700
TZNAME:PDT
DTSTART:20240310T100000
END:DAYLIGHT
BEGIN:STANDARD
TZOFFSETFROM:-0700
TZOFFSETTO:-0800
TZNAME:PST
DTSTART:20241103T090000
END:STANDARD
BEGIN:DAYLIGHT
TZOFFSETFROM:-0800
TZOFFSETTO:-0700
TZNAME:PDT
DTSTART:20250309T100000
END:DAYLIGHT
BEGIN:STANDARD
TZOFFSETFROM:-0700
TZOFFSETTO:-0800
TZNAME:PST
DTSTART:20251102T090000
END:STANDARD
END:VTIMEZONE
BEGIN:VEVENT
DTSTART;TZID=America/Los_Angeles:20240620T110000
DTEND;TZID=America/Los_Angeles:20240620T120000
DTSTAMP:20260423T015352
CREATED:20240410T230226Z
LAST-MODIFIED:20240611T154546Z
UID:268-1718881200-1718884800@statesforthefuture.org
SUMMARY:Creating & Launching the North Carolina Resilience Index
DESCRIPTION:Join the North Carolina Pandemic Recovery Office to learn about their newly launched Resilience Index. The Resilience Index scores their community’s ability to withstand and bounce back from major challenges in nine dimensions\, including business and economic vitality\, healthcare system\, social cohesion\, and communications assets.  \nThis session is ideal for anyone interested in learning how to engage with stakeholders such as research partners\, academic institutions\, and government offices\, or about leveraging data to understand the strengths and vulnerabilities of their community.
URL:https://statesforthefuture.org/event/creating-launching-the-north-carolina-resilience-index/
CATEGORIES:Webinar
ATTACH;FMTTYPE=image/png:https://statesforthefuture.org/wp-content/uploads/2024/04/Screenshot-2024-06-11-084430.png
END:VEVENT
END:VCALENDAR