BEGIN:VCALENDAR
VERSION:2.0
PRODID:-//States for the future: a data driven policy network - ECPv6.15.20//NONSGML v1.0//EN
CALSCALE:GREGORIAN
METHOD:PUBLISH
X-WR-CALNAME:States for the future: a data driven policy network
X-ORIGINAL-URL:https://statesforthefuture.org
X-WR-CALDESC:Events for States for the future: a data driven policy network
REFRESH-INTERVAL;VALUE=DURATION:PT1H
X-Robots-Tag:noindex
X-PUBLISHED-TTL:PT1H
BEGIN:VTIMEZONE
TZID:America/Chicago
BEGIN:DAYLIGHT
TZOFFSETFROM:-0600
TZOFFSETTO:-0500
TZNAME:CDT
DTSTART:20240310T080000
END:DAYLIGHT
BEGIN:STANDARD
TZOFFSETFROM:-0500
TZOFFSETTO:-0600
TZNAME:CST
DTSTART:20241103T070000
END:STANDARD
BEGIN:DAYLIGHT
TZOFFSETFROM:-0600
TZOFFSETTO:-0500
TZNAME:CDT
DTSTART:20250309T080000
END:DAYLIGHT
BEGIN:STANDARD
TZOFFSETFROM:-0500
TZOFFSETTO:-0600
TZNAME:CST
DTSTART:20251102T070000
END:STANDARD
BEGIN:DAYLIGHT
TZOFFSETFROM:-0600
TZOFFSETTO:-0500
TZNAME:CDT
DTSTART:20260308T080000
END:DAYLIGHT
BEGIN:STANDARD
TZOFFSETFROM:-0500
TZOFFSETTO:-0600
TZNAME:CST
DTSTART:20261101T070000
END:STANDARD
END:VTIMEZONE
BEGIN:VEVENT
DTSTART;TZID=America/Chicago:20250430T110000
DTEND;TZID=America/Chicago:20250430T120000
DTSTAMP:20260419T233056
CREATED:20250422T190109Z
LAST-MODIFIED:20250422T190743Z
UID:338-1746010800-1746014400@statesforthefuture.org
SUMMARY:Federal Policy Updates with Bipartisan Policy Center - Virtual Community Discussion
DESCRIPTION:Hear about the latest in Federal policy updates from the Bipartisan Policy Center at our next States for the Future Virtual Community Discussion on Wednesday\, April 30 at 2:00 PM ET / 11:00 AM PT. Rachel B. Snyderman\, BPC’s Managing Director of Economic Policy\, will discuss how changes in funding and fiscal policy at the Federal level could impact state services\, programming\, and budgets. Our conversation will cover focus areas for many organizations in our network\, including education and health. \nClick here to register and join us on April 30.
URL:https://statesforthefuture.org/event/federal-policy-updates-with-bipartisan-policy-center-virtual-community-discussion/
CATEGORIES:Webinar
END:VEVENT
END:VCALENDAR