BEGIN:VCALENDAR
VERSION:2.0
PRODID:-//States for the future: a data driven policy network - ECPv6.15.20//NONSGML v1.0//EN
CALSCALE:GREGORIAN
METHOD:PUBLISH
X-WR-CALNAME:States for the future: a data driven policy network
X-ORIGINAL-URL:https://statesforthefuture.org
X-WR-CALDESC:Events for States for the future: a data driven policy network
REFRESH-INTERVAL;VALUE=DURATION:PT1H
X-Robots-Tag:noindex
X-PUBLISHED-TTL:PT1H
BEGIN:VTIMEZONE
TZID:America/Chicago
BEGIN:DAYLIGHT
TZOFFSETFROM:-0600
TZOFFSETTO:-0500
TZNAME:CDT
DTSTART:20230312T080000
END:DAYLIGHT
BEGIN:STANDARD
TZOFFSETFROM:-0500
TZOFFSETTO:-0600
TZNAME:CST
DTSTART:20231105T070000
END:STANDARD
BEGIN:DAYLIGHT
TZOFFSETFROM:-0600
TZOFFSETTO:-0500
TZNAME:CDT
DTSTART:20240310T080000
END:DAYLIGHT
BEGIN:STANDARD
TZOFFSETFROM:-0500
TZOFFSETTO:-0600
TZNAME:CST
DTSTART:20241103T070000
END:STANDARD
BEGIN:DAYLIGHT
TZOFFSETFROM:-0600
TZOFFSETTO:-0500
TZNAME:CDT
DTSTART:20250309T080000
END:DAYLIGHT
BEGIN:STANDARD
TZOFFSETFROM:-0500
TZOFFSETTO:-0600
TZNAME:CST
DTSTART:20251102T070000
END:STANDARD
END:VTIMEZONE
BEGIN:VEVENT
DTSTART;TZID=America/Chicago:20240718T120000
DTEND;TZID=America/Chicago:20240718T130000
DTSTAMP:20260424T113345
CREATED:20240618T211001Z
LAST-MODIFIED:20240618T211650Z
UID:293-1721304000-1721307600@statesforthefuture.org
SUMMARY:Preparing for the Big Shift: Changes to Federal Race & Ethnicity Data Standards
DESCRIPTION:In 2024\, the federal government announced new race and ethnicity data collection and reporting standards that will require changes to how data is collected\, analyzed\, and presented. This\, in turn\, will have major implications for state governments and private-sector entities that partner with federal agencies. \nKey changes include: 1) combining Hispanic and Race into one category\, 2) the addition of a new category\, and 3) mandating disaggregation within racial categories like Asian wherever feasible. \nBy September 2025\, federal agencies will submit their agency action plans for implementation. This is a critical time for state policy organizations to better understand the revision process\, and to identify “use cases” that can inform and improve federal agency implementation.  \nIn this webinar\, AAPI Data\, who helped inform the new standards\, will share the background of these standards and what they mean for states\, how your organization can be prepared to implement these new standards\, and how to be a resource for other stakeholders in your state.
URL:https://statesforthefuture.org/event/preparing-for-the-big-shift-changes-to-federal-race-ethnicity-data-standards/
ATTACH;FMTTYPE=image/png:https://statesforthefuture.org/wp-content/uploads/2024/06/Screenshot-2024-06-18-141629.png
END:VEVENT
END:VCALENDAR