BEGIN:VCALENDAR
VERSION:2.0
PRODID:-//States for the future: a data driven policy network - ECPv6.15.20//NONSGML v1.0//EN
CALSCALE:GREGORIAN
METHOD:PUBLISH
X-ORIGINAL-URL:https://statesforthefuture.org
X-WR-CALDESC:Events for States for the future: a data driven policy network
REFRESH-INTERVAL;VALUE=DURATION:PT1H
X-Robots-Tag:noindex
X-PUBLISHED-TTL:PT1H
BEGIN:VTIMEZONE
TZID:America/Los_Angeles
BEGIN:DAYLIGHT
TZOFFSETFROM:-0800
TZOFFSETTO:-0700
TZNAME:PDT
DTSTART:20240310T100000
END:DAYLIGHT
BEGIN:STANDARD
TZOFFSETFROM:-0700
TZOFFSETTO:-0800
TZNAME:PST
DTSTART:20241103T090000
END:STANDARD
BEGIN:DAYLIGHT
TZOFFSETFROM:-0800
TZOFFSETTO:-0700
TZNAME:PDT
DTSTART:20250309T100000
END:DAYLIGHT
BEGIN:STANDARD
TZOFFSETFROM:-0700
TZOFFSETTO:-0800
TZNAME:PST
DTSTART:20251102T090000
END:STANDARD
BEGIN:DAYLIGHT
TZOFFSETFROM:-0800
TZOFFSETTO:-0700
TZNAME:PDT
DTSTART:20260308T100000
END:DAYLIGHT
BEGIN:STANDARD
TZOFFSETFROM:-0700
TZOFFSETTO:-0800
TZNAME:PST
DTSTART:20261101T090000
END:STANDARD
END:VTIMEZONE
BEGIN:VEVENT
DTSTART;TZID=America/Los_Angeles:20250213T100000
DTEND;TZID=America/Los_Angeles:20250213T110000
DTSTAMP:20260421T132429
CREATED:20250109T201342Z
LAST-MODIFIED:20250109T204746Z
UID:325-1739440800-1739444400@statesforthefuture.org
SUMMARY:Overcoming Polarization with Participation
DESCRIPTION:Join us for a virtual community discussion exploring Citizen Solutions\, an innovative approach to fostering bipartisan civic engagement from The Builder’s Movement. Learn how this approach is shaping the future of policy-making in our increasingly polarized political landscape.\nIn this session\, we will cover: \n\nWhat is Citizen Solutions? Gain a clear understanding of this groundbreaking approach and how it empowers everyday citizens to participate in grassroots policy making.\nWhat has been uncovered by Citizen Solutions pilots? What has Builder’s Movement learned from initial pilots and how it can inform the work you’re doing in your state.\nWays your organization can encourage collaboration between policymakers: See how approaches like Citizen Solutions and Builder’s Movements Power Rankings can  foster bipartisan efforts.
URL:https://statesforthefuture.org/event/overcoming-polarization-with-participation/
ATTACH;FMTTYPE=image/png:https://statesforthefuture.org/wp-content/uploads/2025/01/Screenshot-2025-01-09-124608.png
END:VEVENT
END:VCALENDAR