BEGIN:VCALENDAR
VERSION:2.0
PRODID:-//States for the future: a data driven policy network - ECPv6.15.20//NONSGML v1.0//EN
CALSCALE:GREGORIAN
METHOD:PUBLISH
X-WR-CALNAME:States for the future: a data driven policy network
X-ORIGINAL-URL:https://statesforthefuture.org
X-WR-CALDESC:Events for States for the future: a data driven policy network
REFRESH-INTERVAL;VALUE=DURATION:PT1H
X-Robots-Tag:noindex
X-PUBLISHED-TTL:PT1H
BEGIN:VTIMEZONE
TZID:America/Los_Angeles
BEGIN:DAYLIGHT
TZOFFSETFROM:-0800
TZOFFSETTO:-0700
TZNAME:PDT
DTSTART:20230312T100000
END:DAYLIGHT
BEGIN:STANDARD
TZOFFSETFROM:-0700
TZOFFSETTO:-0800
TZNAME:PST
DTSTART:20231105T090000
END:STANDARD
BEGIN:DAYLIGHT
TZOFFSETFROM:-0800
TZOFFSETTO:-0700
TZNAME:PDT
DTSTART:20240310T100000
END:DAYLIGHT
BEGIN:STANDARD
TZOFFSETFROM:-0700
TZOFFSETTO:-0800
TZNAME:PST
DTSTART:20241103T090000
END:STANDARD
BEGIN:DAYLIGHT
TZOFFSETFROM:-0800
TZOFFSETTO:-0700
TZNAME:PDT
DTSTART:20250309T100000
END:DAYLIGHT
BEGIN:STANDARD
TZOFFSETFROM:-0700
TZOFFSETTO:-0800
TZNAME:PST
DTSTART:20251102T090000
END:STANDARD
END:VTIMEZONE
BEGIN:VEVENT
DTSTART;TZID=America/Los_Angeles:20240411T100000
DTEND;TZID=America/Los_Angeles:20240411T110000
DTSTAMP:20260422T064004
CREATED:20240307T234743Z
LAST-MODIFIED:20240307T234806Z
UID:261-1712829600-1712833200@statesforthefuture.org
SUMMARY:States for the Future Data Platform Virtual Community Discussion
DESCRIPTION:Join Dr. Holly Heard of Texas 2036 and David McClendon of January Advisors in an exploration of the States for the Future Data Platform.  \nIn this virtual community discussion\, attendees will learn how to use the States for the Future data platform\, including how to best leverage it for advancing their work in their own states\, and have the opportunity to chat with their peers about data products they use or built. 
URL:https://statesforthefuture.org/event/states-for-the-future-data-platform-virtual-community-discussion/
CATEGORIES:Webinar
ATTACH;FMTTYPE=image/png:https://statesforthefuture.org/wp-content/uploads/2024/03/april-webinar-website.png
END:VEVENT
END:VCALENDAR