BEGIN:VCALENDAR
VERSION:2.0
PRODID:-//States for the future: a data driven policy network - ECPv6.15.20//NONSGML v1.0//EN
CALSCALE:GREGORIAN
METHOD:PUBLISH
X-ORIGINAL-URL:https://statesforthefuture.org
X-WR-CALDESC:Events for States for the future: a data driven policy network
REFRESH-INTERVAL;VALUE=DURATION:PT1H
X-Robots-Tag:noindex
X-PUBLISHED-TTL:PT1H
BEGIN:VTIMEZONE
TZID:America/Los_Angeles
BEGIN:DAYLIGHT
TZOFFSETFROM:-0800
TZOFFSETTO:-0700
TZNAME:PDT
DTSTART:20230312T100000
END:DAYLIGHT
BEGIN:STANDARD
TZOFFSETFROM:-0700
TZOFFSETTO:-0800
TZNAME:PST
DTSTART:20231105T090000
END:STANDARD
BEGIN:DAYLIGHT
TZOFFSETFROM:-0800
TZOFFSETTO:-0700
TZNAME:PDT
DTSTART:20240310T100000
END:DAYLIGHT
BEGIN:STANDARD
TZOFFSETFROM:-0700
TZOFFSETTO:-0800
TZNAME:PST
DTSTART:20241103T090000
END:STANDARD
BEGIN:DAYLIGHT
TZOFFSETFROM:-0800
TZOFFSETTO:-0700
TZNAME:PDT
DTSTART:20250309T100000
END:DAYLIGHT
BEGIN:STANDARD
TZOFFSETFROM:-0700
TZOFFSETTO:-0800
TZNAME:PST
DTSTART:20251102T090000
END:STANDARD
END:VTIMEZONE
BEGIN:VEVENT
DTSTART;TZID=America/Los_Angeles:20241017T110000
DTEND;TZID=America/Los_Angeles:20241017T120000
DTSTAMP:20260419T194317
CREATED:20240913T223216Z
LAST-MODIFIED:20240913T223300Z
UID:301-1729162800-1729166400@statesforthefuture.org
SUMMARY:Thinking at scale: States and cities collaborating on shared issues
DESCRIPTION:Many states\, regardless of their political orientation\, face comparable challenges\, especially as the climate changes and the impacts are not confined by man-made state boundaries. \nJoin us on October 17 for a conversation with Ten Across\, a cross-state organization dedicated to convening diverse perspectives to better share information and to inspire proactive decision-making for resilience and sustainability. Ten Across founder\, Duke Reiter\, will share his organization’s experience with partnering with states in the southern US to address extreme heat and water management\, and how other policy organizations can build coalition\, foster optimism\, and collaborate with peer states to drive towards policy change.
URL:https://statesforthefuture.org/event/thinking-at-scale-states-and-cities-collaborating-on-shared-issues/
ATTACH;FMTTYPE=image/png:https://statesforthefuture.org/wp-content/uploads/2024/09/Screenshot-2024-09-13-153201.png
END:VEVENT
END:VCALENDAR